BEGIN:VCALENDAR
VERSION:2.0
PRODID:-//Palm Beach Casino Tours - ECPv6.15.20//NONSGML v1.0//EN
CALSCALE:GREGORIAN
METHOD:PUBLISH
X-WR-CALNAME:Palm Beach Casino Tours
X-ORIGINAL-URL:https://palmbeachcasinotours.com
X-WR-CALDESC:Events for Palm Beach Casino Tours
REFRESH-INTERVAL;VALUE=DURATION:PT1H
X-Robots-Tag:noindex
X-PUBLISHED-TTL:PT1H
BEGIN:VTIMEZONE
TZID:UTC
BEGIN:STANDARD
TZOFFSETFROM:+0000
TZOFFSETTO:+0000
TZNAME:UTC
DTSTART:20230101T000000
END:STANDARD
END:VTIMEZONE
BEGIN:VEVENT
DTSTART;VALUE=DATE:20241101
DTEND;VALUE=DATE:20241105
DTSTAMP:20260425T031801
CREATED:20241015T195909Z
LAST-MODIFIED:20241015T195909Z
UID:3003-1730419200-1730764799@palmbeachcasinotours.com
SUMMARY:Ultimate Casino Cruise
DESCRIPTION:Sometimes plans change! But these changes are for better… \nWe are sorry to inform you that our Halloween group cruise will be postponed till next year. However\, we have a better opportunity for our favorite gamblers to enjoy what they love the most – PLAY! \nCasino hours are extended!
URL:https://palmbeachcasinotours.com/event/ultimate-casino-cruise/
ATTACH;FMTTYPE=image/jpeg:https://palmbeachcasinotours.com/wp-content/uploads/2024/10/Capture-1.jpg
END:VEVENT
END:VCALENDAR