BEGIN:VCALENDAR
VERSION:2.0
PRODID:-//Palm Beach Casino Tours - ECPv6.15.20//NONSGML v1.0//EN
CALSCALE:GREGORIAN
METHOD:PUBLISH
X-WR-CALNAME:Palm Beach Casino Tours
X-ORIGINAL-URL:https://palmbeachcasinotours.com
X-WR-CALDESC:Events for Palm Beach Casino Tours
REFRESH-INTERVAL;VALUE=DURATION:PT1H
X-Robots-Tag:noindex
X-PUBLISHED-TTL:PT1H
BEGIN:VTIMEZONE
TZID:UTC
BEGIN:STANDARD
TZOFFSETFROM:+0000
TZOFFSETTO:+0000
TZNAME:UTC
DTSTART:20230101T000000
END:STANDARD
END:VTIMEZONE
BEGIN:VEVENT
DTSTART;VALUE=DATE:20241213
DTEND;VALUE=DATE:20241220
DTSTAMP:20260424T205317
CREATED:20240424T173539Z
LAST-MODIFIED:20241018T155017Z
UID:2948-1734048000-1734652799@palmbeachcasinotours.com
SUMMARY:Holiday Party on Celebrity Silhouette
DESCRIPTION:Relax before Holidays in paradise \nwith Palm Beach Casino Tours! \n\n\n\n\n\n\n\n Join Us on 3-night group cruise December 13 – December 16\, 2024 \non gorgeous Celebrity Silhouette \nFort Lauderdale\, FL -Nassau\, Bahamas – \nBimini\, Bahamas – Fort Lauderdale\, FL \n 
URL:https://palmbeachcasinotours.com/event/holiday-party-on-celebrity-silhouette-2/
ATTACH;FMTTYPE=image/png:https://palmbeachcasinotours.com/wp-content/uploads/2024/04/Dec-13-2024.png
END:VEVENT
END:VCALENDAR