BEGIN:VCALENDAR
VERSION:2.0
PRODID:-//Palm Beach Casino Tours - ECPv6.15.20//NONSGML v1.0//EN
CALSCALE:GREGORIAN
METHOD:PUBLISH
X-ORIGINAL-URL:https://palmbeachcasinotours.com
X-WR-CALDESC:Events for Palm Beach Casino Tours
REFRESH-INTERVAL;VALUE=DURATION:PT1H
X-Robots-Tag:noindex
X-PUBLISHED-TTL:PT1H
BEGIN:VTIMEZONE
TZID:UTC
BEGIN:STANDARD
TZOFFSETFROM:+0000
TZOFFSETTO:+0000
TZNAME:UTC
DTSTART:20230101T000000
END:STANDARD
END:VTIMEZONE
BEGIN:VEVENT
DTSTART;VALUE=DATE:20241229
DTEND;VALUE=DATE:20250105
DTSTAMP:20260424T190755
CREATED:20241018T155601Z
LAST-MODIFIED:20241124T164835Z
UID:3012-1735430400-1736035199@palmbeachcasinotours.com
SUMMARY:New Year Group Cruise on Celebrity Reflection
DESCRIPTION:Let’s toast to new beginnings \non board Celebrity Reflection \nDECEMBER 29\, 2024 – JANUARY 4\, 2025 \n6-night cruise \nFort Lauderdale\, FL – Cozumel\, Mexico – George Town\, Grand Cayman– Bimini\, Bahamas \n – Fort Lauderdale\, FL \nItinerary details here:https://www.celebritycruises.com/itinerary-details/6-night-bahamas-mexico-grand-cayman-from-fort-lauderdale-florida?groupId=RF06FLL-318967820&packageID=RF06W197&sDT=2024-12-01&cCD=CO&search=startDate:2024-12-01~2024-12-31
URL:https://palmbeachcasinotours.com/event/new-year-group-cruise-on-celebrity-reflection/
ATTACH;FMTTYPE=image/jpeg:https://palmbeachcasinotours.com/wp-content/uploads/2024/10/hny.jpg
END:VEVENT
END:VCALENDAR