BEGIN:VCALENDAR
VERSION:2.0
PRODID:-//Palm Beach Casino Tours - ECPv6.15.20//NONSGML v1.0//EN
CALSCALE:GREGORIAN
METHOD:PUBLISH
X-ORIGINAL-URL:https://palmbeachcasinotours.com
X-WR-CALDESC:Events for Palm Beach Casino Tours
REFRESH-INTERVAL;VALUE=DURATION:PT1H
X-Robots-Tag:noindex
X-PUBLISHED-TTL:PT1H
BEGIN:VTIMEZONE
TZID:UTC
BEGIN:STANDARD
TZOFFSETFROM:+0000
TZOFFSETTO:+0000
TZNAME:UTC
DTSTART:20240101T000000
END:STANDARD
END:VTIMEZONE
BEGIN:VEVENT
DTSTART;VALUE=DATE:20250421
DTEND;VALUE=DATE:20250422
DTSTAMP:20260424T142100
CREATED:20250122T152821Z
LAST-MODIFIED:20250304T194040Z
UID:3103-1745193600-1745279999@palmbeachcasinotours.com
SUMMARY:Join us on New Norwegian Aqua
DESCRIPTION:Palm Beach Casino Tours \ninvites you to sail with us on brand-new \nNorwegian Aqua \nApril 21\, 2025 \n4-night cruise \nMiami\, FL – Bimini\, Bahamas- Great Stirrup Cay\, Bahamas- Miami\, FL \n\n\n\n\n\n\n\n\n\n\n\n\n\n\n\n\nOur invitation includes: \n\nUnlimited Beverage Package – Subject to 18% Service Charge of $120 per person\nSpecialty Dining Package at any Specialty Restaurant – Subject to 18% Service Charge – $40 per person – Two (2) dinners per person\nInternet Package – 75 complimentary minutes – No Charge\nShore Excursion Credit – $50 credit per cabin\, at each port – No Charge
URL:https://palmbeachcasinotours.com/event/sail-on-the-new-norwegian/
ATTACH;FMTTYPE=image/jpeg:https://palmbeachcasinotours.com/wp-content/uploads/2025/01/aqua.jpg
END:VEVENT
END:VCALENDAR