BEGIN:VCALENDAR
VERSION:2.0
PRODID:-//Palm Beach Casino Tours - ECPv6.15.20//NONSGML v1.0//EN
CALSCALE:GREGORIAN
METHOD:PUBLISH
X-WR-CALNAME:Palm Beach Casino Tours
X-ORIGINAL-URL:https://palmbeachcasinotours.com
X-WR-CALDESC:Events for Palm Beach Casino Tours
REFRESH-INTERVAL;VALUE=DURATION:PT1H
X-Robots-Tag:noindex
X-PUBLISHED-TTL:PT1H
BEGIN:VTIMEZONE
TZID:UTC
BEGIN:STANDARD
TZOFFSETFROM:+0000
TZOFFSETTO:+0000
TZNAME:UTC
DTSTART:20150101T000000
END:STANDARD
END:VTIMEZONE
BEGIN:VEVENT
DTSTART;VALUE=DATE:20160502
DTEND;VALUE=DATE:20160601
DTSTAMP:20260425T031817
CREATED:20160504T170059Z
LAST-MODIFIED:20160523T190843Z
UID:1219-1462147200-1464739199@palmbeachcasinotours.com
SUMMARY:Royal Caribbean: Military Appreciation Bonus
DESCRIPTION:May is Military Appreciation Month. Your clients deserve more than a vacation\, they deserve an unwind adventure.  Book your military clients between May 2-31\, 2016 and they’ll get up to $50 off their stateroom as our way of showing appreciation. Plus this discount is combinable with our current offer. \n\n\n\n\n\n\nOFFER DETAILS:\n\n\n\n\nBooking Window: May 2 – 31\, 2016 \nSailing Window: All sailings departing on or after June 2\, 2016\, excluding China departures. \n\n$25 off for Inside and Oceanview Staterooms\n$50 off for Balcony and Deluxe Staterooms\n\n\n\n\n\n\n\n\n\n\n\n\n\n\nTerms and Conditions\n\n\n\n\n\n\n\nCruise must be booked between May 2 – 31\, 2016. Offer applies to sailings departing on or after June 2\, 2016.  Offer excludes China departures. Offer applies to active and retired U.S. and Canada Military personnel who meet the qualifications listed at royalcaribbean.com/military. Valid military identification must be presented at pier check-in; offer will be removed from booking if valid identification is not presented. Offer will be applied to stateroom in which the qualified Military Personnel is booked. One offer per stateroom. Offer provides for dollars off per stateroom in the amount of $25 off for interior and oceanview staterooms\, $50 off for balcony and deluxe staterooms.  \n Offer is combinable with standard/full fare rates\, 60% Second Guest Savings and 30% 3rd and Higher Guest Savings\, restricted rates (for example\, Seniors\, Residents\, etc.)\, and Next Cruise offers. Military dollars off discount\, is applied first\, followed by any eligible savings offer such as 60% Second Guest Savings and 30% 3rd and Higher Guest Savings\, which is applied to final balance.  Offer is not combinable with any other offer or promotion\, including\, but not limited to\, Standard Group\, Interline\, Travel Agent\, Travel Agent Friends and Family\, Weekly Sales Events\, Net Rates\, Crown & Anchor Discount programs or rates and Shareholder Benefits. After the Offer Period\, the Offer will be removed from the booking if the guest cancels and reinstates the booking\, applies a fare change\, or changes the ship or sail date of the booking; certain other changes to the booking may also result in removal of the Offer. Offer applies to new\, individual and named group bookings confirmed at prevailing rates. Individual reservations can be transferred into an existing group\, assuming required criteria are met\, though full deposit will be required at time of transfer.  Single occupancy guests paying 200% cruise fare are eligible for Offer.  Single occupancy guests paying less than 200% cruise fare will be eligible for a prorated value of the Offer.  Failure to apply the required full deposit amount may result in the cancellation of the booking.  Offer available to residents of the United States or Canada. Prices and Offer are subject to availability and change without notice\, capacity controlled\, and may be withdrawn at any time. Royal Caribbean International reserves the right to correct any errors\, inaccuracies or omissions and to change or update fares\, fees and surcharges at any time without prior notice. © 2016 Royal Caribbean Cruises Ltd. Ships registry: The Bahamas. \nPost expires at 12:01am on Wednesday June 1st\, 2016
URL:https://palmbeachcasinotours.com/event/military-appreciation-bonus/
CATEGORIES:Last Minute Deals!
END:VEVENT
BEGIN:VEVENT
DTSTART;VALUE=DATE:20160427
DTEND;VALUE=DATE:20160501
DTSTAMP:20260425T031817
CREATED:20160427T171359Z
LAST-MODIFIED:20160427T171617Z
UID:1209-1461715200-1462060799@palmbeachcasinotours.com
SUMMARY:Last Call! BOGO on Fathom cruises to The Dominican Republic
DESCRIPTION:Applicable Sailings\nMay 8\, May 22\, June 5\, June 19 \nPromotional price is reduced to $628 per person (1st and 2nd passenger each pay this rate). Rates typically begin from $1256 per person. \nContact Us ONLINE or Call 877-561- 7447 \nfor more information\nTerms & Conditions: Both passenger 1 and 2 receive a 50% discount. Promotional pricing begins 3rd and 4ths at 50% of double occupancy fares. Ask for promotion FA* when booking your voyage. Not combinable with DIBS promotions (ZA* and ZG*). Combinable with Select/National Account offers (promo code VA*). 3. Not combinable with GAP amenities\, but eligible to count toward group tour escort credit. Promotion is subject to availability. Taxes\, fees and port expenses not included and are currently $208 per person and are subject to change. Fathom is the newest brand in the Carnival Corporation & plc family\, which carries 11 million passengers every year to ports around the world. ©2015 Fathom Travel Ltd. Fathom™ and the Fathom logos are trademarks of Fathom Travel Ltd. All rights reserved. Ship’s registry: Bermuda.  \n  \n 
URL:https://palmbeachcasinotours.com/event/last-call-bogo-on-fathom-cruises-to-the-dominican-republic/
CATEGORIES:Last Minute Deals!
END:VEVENT
BEGIN:VEVENT
DTSTART;VALUE=DATE:20160419
DTEND;VALUE=DATE:20160502
DTSTAMP:20260425T031817
CREATED:20160418T162721Z
LAST-MODIFIED:20160418T180758Z
UID:1196-1461024000-1462147199@palmbeachcasinotours.com
SUMMARY:BOGO SAVER IS BACK
DESCRIPTION:This is not a cruise. This is surf\, sun and summer thrills. Your clients can race the tide in Tortola’s Virgin Gorda Baths and taste coconut-crusted wahoo at a beachfront shack in Roatan. Hopping from shore to sun-soaked shore onboard ships that are destinations all their own. And right now\, your clients can save big with BOGO Saver. This is not the Caribbean. This is the Royal Caribbean.\n\n\nOFFER DETAILS:\n\n\n\n\nBooking Window: April 19 – May 1\, 2016 \nSailing Window: All sailings on or after May 20\, 2016\, excluding China departures \n• Buy One Guest\, Get Second Guest 50% Off. \n• 25% off for 3rd and 4th guests. \n• BONUS –  Pre-paid gratuities in Oceanview categories and above for the first and second guests on all products excluding Alaska\, Asia\, China\, Transatlantic and Repositioning sailings. \n• PLUS for eligible new deployment sailings departing on or after May 1\, 2017 (excluding China departures)\, offer includes Free Upgrades within stateroom type. \n  \n\n\n\n\n\n\n\n\nContact Us ONLINE or Call 877-561- 7447 for more information\n\n\n\nTERMS AND CONDITIONS:\n\n\n*Cruise must be booked April 19-May 1\, 2016\, 2016 (“Offer Period”). Offer applies to all sailings on or after May 20\, 2016\, excluding China departures. Offer includes 50% off cruise fare of second guest booked in the same stateroom as first full fare guest. Offer also includes 25% cruise fare savings for 3rd and 4th guests booked in the same stateroom as the first two qualifying guests. ”).  Additionally\, offer includes pre-paid gratuities for the first and second guests in the stateroom for all eligible products excluding Alaska\, Asia\, China\, Transatlantic and Repositioning sailings.  Pre-paid gratuities will be applied as an onboard credit (“OBC”)\, and includes stateroom\, waiter\, assistant waiter and head waiter gratuities in the amount suggested by Royal Caribbean guidelines. OBC will be applied automatically at time of booking to all eligible reservations and displayed as per person amounts for the first and second guests\, totaling the  gratuity value. OBC is in USD\, has no cash value\, is non-transferable\, not redeemable for cash.  In addition\, for eligible newly deployed sailings that depart on or after May 1\, 2017\, the Offer includes a Free Upgrade within the stateroom meta-category (for example from a D8 to a D1\, interior to interior\, or ocean view to ocean view). Free Upgrade refers to booking a stateroom for the price of the lowest available category within the same stateroom meta-category type. Upgrade is subject to stateroom availability at time of booking. Upgrade offer excludes Panoramic\, Family\, and Suite staterooms. All other charges\, including\, but not limited to\, taxes\, fees and port expenses\, are additional and apply to all guests. BOGO does not apply to third and higher occupancy guests BOGO is combinable with adjoining Pre-Paid Gratuities\, 25% Savings\, New Deployment Upgrade Offer\, NextCruise Offer\, Crown & Anchor discounts and Shareholder Benefits. Pre-paid Gratuities are not combinable with Crown & Anchor discounts and Shareholder Benefits.  BOGO and 25% Savings are not combinable with restricted rates (for example\, Seniors\, Residents\, Military).  Pre-Paid Gratuities are combinable with restricted rates (for example\, Seniors\, Residents\, Military) as well as NextCruise offers.  Offer is not combinable with any other offer or promotion\, including\, but not limited to\, Standard Group\, Interline\, Travel Agent\, Travel Agent Friends and Family\, Weekly Sales Events\, and Net Rates. Offer applies to new\, individual and named group bookings confirmed at prevailing rates. Offer open to residents of U.S. or Canada. Prices and Offer are subject to availability and change without notice\, capacity controlled\, and may be withdrawn at any time. ©2016 Royal Caribbean. Ships registry: Bahamas.
URL:https://palmbeachcasinotours.com/event/bogo-saver-is-back/
CATEGORIES:Last Minute Deals!
END:VEVENT
BEGIN:VEVENT
DTSTART;VALUE=DATE:20160321
DTEND;VALUE=DATE:20160403
DTSTAMP:20260425T031817
CREATED:20160321T221022Z
LAST-MODIFIED:20160331T001116Z
UID:1125-1458518400-1459641599@palmbeachcasinotours.com
SUMMARY:30% OFF and Up to $100 OFF
DESCRIPTION:BOOK NOW and get up to $100 OFF select sailings + 30%OFF each guest on every ship and every sailing\, including Caribbean\, Europe\, Alaska and exotic itineraries. Offer valid until April 2 for sailings on and after March 16\,2016. \nThis is not just a cruise… This is the BEST VACATION VALUE around!!! Only Royal Caribbean® offers more activities\, dining venues\, entertainment options and experiences\, delivering more memories without tapping into your wallet. \nLearn more about what’s included on every Royal Caribbean Cruise… Click Here to learn what is included on your cruise! \n\nCALL US! SHARE WITH YOUR FRIENDS!\nPh 877-561-7447(SHIP) \n 
URL:https://palmbeachcasinotours.com/event/30-off-and-up-to-100-off/
LOCATION:Royal Caribbean
CATEGORIES:Last Minute Deals!
END:VEVENT
END:VCALENDAR