BEGIN:VCALENDAR
VERSION:2.0
PRODID:-//Palm Beach Casino Tours - ECPv6.15.20//NONSGML v1.0//EN
CALSCALE:GREGORIAN
METHOD:PUBLISH
X-ORIGINAL-URL:https://palmbeachcasinotours.com
X-WR-CALDESC:Events for Palm Beach Casino Tours
REFRESH-INTERVAL;VALUE=DURATION:PT1H
X-Robots-Tag:noindex
X-PUBLISHED-TTL:PT1H
BEGIN:VTIMEZONE
TZID:UTC
BEGIN:STANDARD
TZOFFSETFROM:+0000
TZOFFSETTO:+0000
TZNAME:UTC
DTSTART:20250101T000000
END:STANDARD
END:VTIMEZONE
BEGIN:VEVENT
DTSTART;VALUE=DATE:20260829
DTEND;VALUE=DATE:20260830
DTSTAMP:20260424T001234
CREATED:20260226T180828Z
LAST-MODIFIED:20260226T180828Z
UID:3266-1787961600-1788047999@palmbeachcasinotours.com
SUMMARY:Visit Europe this Summer
DESCRIPTION:Palm Beach Casino Tours  \nInvites You to Join Us on Brand-New Celebrity Xcel \nAugust 29\, 2026 \n7-Night Cruise \nDiscover the Magic of the Mediterranean \nBarcelona\, Spain – Nice\, France – Portofino\, Italy – Florencia/Pisa\, Italy –\nRome\, Italy – Naples\, Italy – Barcelona\, Spain
URL:https://palmbeachcasinotours.com/event/visit-europe-this-summer/
ATTACH;FMTTYPE=image/jpeg:https://palmbeachcasinotours.com/wp-content/uploads/2026/02/portofino.jpg
END:VEVENT
BEGIN:VEVENT
DTSTART;VALUE=DATE:20261118
DTEND;VALUE=DATE:20261119
DTSTAMP:20260424T001234
CREATED:20260407T165736Z
LAST-MODIFIED:20260407T165736Z
UID:3318-1794960000-1795046399@palmbeachcasinotours.com
SUMMARY:Join Us on a Western Caribbean Escape
DESCRIPTION:Palm Beach Casino Tours Invites You to Join Us on Celebrity Beyond \nDates: November 18 – 22\, 2026 \nLength: 4-Nights \n Fort Lauderdale\, FL – Cozumel\, Mexico –  Fort Lauderdale\, FL \nDon’t Miss this Chance!
URL:https://palmbeachcasinotours.com/event/join-us-on-a-western-caribbean-escape/
ATTACH;FMTTYPE=image/jpeg:https://palmbeachcasinotours.com/wp-content/uploads/2026/04/cozumel-mexico-port-large.jpg
END:VEVENT
BEGIN:VEVENT
DTSTART;VALUE=DATE:20261227
DTEND;VALUE=DATE:20261228
DTSTAMP:20260424T001234
CREATED:20260226T181626Z
LAST-MODIFIED:20260226T181626Z
UID:3274-1798329600-1798415999@palmbeachcasinotours.com
SUMMARY:Celebrate New Year 2027 at Sea
DESCRIPTION:Palm Beach Casino Tours  \nInvites You to Welcome 2027 Aboard Celebrity Silhouette \nDecember 27\, 2026 \n6-Night Cruise \nFort Lauderdale\, FL – George Town\, Grand Cayman – Cozumel\, Mexico –\nBimini\, Bahamas – Fort Lauderdale\, FL
URL:https://palmbeachcasinotours.com/event/celebrate-new-year-2027-at-sea/
ATTACH;FMTTYPE=image/jpeg:https://palmbeachcasinotours.com/wp-content/uploads/2026/02/New-Year-Celebration-e1772129764891.jpg
END:VEVENT
BEGIN:VEVENT
DTSTART;VALUE=DATE:20270131
DTEND;VALUE=DATE:20270201
DTSTAMP:20260424T001234
CREATED:20260227T201433Z
LAST-MODIFIED:20260306T210616Z
UID:3277-1801353600-1801439999@palmbeachcasinotours.com
SUMMARY:Start the Year with a Caribbean Escape
DESCRIPTION:Palm Beach Casino Tours \nInvites You to Join Us on Celebrity Xcel \nJanuary 31\, 2027 \n7-Night Group Cruise \nMiami\, FL – Philipsburg\, St. Maarten – Tortola\,BVI\, Puerto Plata\, Dominican Republic – Miami\, FL \n\n Interested?  \nFill Out the Form Below and We’ll Reach Out to You \n\n← Back Thank you for your response. ✨\n\n\n					\n						\n							\n							\n						\n						\n						\n						\n						\n							\n								\n									\n										\n										\n									\n									\n										\n										\n									\n								\n							\n						\n						\n							\n								\n									\n									\n										\n									\n									\n									\n								\n							\n						\n					\n				\n\n\n\nFull Name(required)\n\n \n			\n				\n					\n						\n						\n						\n					\n				\n				\n			 \n	\n\n\nPhone(required)\n\n \n			\n				\n					\n						\n						\n						\n					\n				\n				\n			 \n	\n\n\nEmail (required)\n\n \n			\n				\n					\n						\n						\n						\n					\n				\n				\n			 \n	\n\n\nTotal Number of Passengers Sailing(required)\n\n \n			\n				\n					\n						\n						\n						\n					\n				\n				\n			 \n	\n\n\nHave You Sailed With Us Before?(required)\n	\n		Select an option\n		No\n		Yes\n	\n\n\n			\n				\n					\n						\n						\n						\n					\n				\n				\n				\n\n\nWhat Is the Best Way to Contact You?\n	\n		Select an option\n		Phone\n		Email\n	\n\n\n			\n				\n					\n						\n						\n						\n					\n				\n				\n				\n\n\nAdditional Details or Requests\n\n \n			\n				\n					\n						\n						\n						\n					\n				\n				\n			\n	\n	\n\n				\n					\n				\n						Submit
URL:https://palmbeachcasinotours.com/event/start-the-year-with-a-caribbean-sailing-escape/
ATTACH;FMTTYPE=image/jpeg:https://palmbeachcasinotours.com/wp-content/uploads/2026/02/Puerto-Plata-umbrella-street-e1772897810911.jpg
END:VEVENT
END:VCALENDAR