BEGIN:VCALENDAR
VERSION:2.0
PRODID:-//Palm Beach Casino Tours - ECPv6.15.20//NONSGML v1.0//EN
CALSCALE:GREGORIAN
METHOD:PUBLISH
X-WR-CALNAME:Palm Beach Casino Tours
X-ORIGINAL-URL:https://palmbeachcasinotours.com
X-WR-CALDESC:Events for Palm Beach Casino Tours
REFRESH-INTERVAL;VALUE=DURATION:PT1H
X-Robots-Tag:noindex
X-PUBLISHED-TTL:PT1H
BEGIN:VTIMEZONE
TZID:UTC
BEGIN:STANDARD
TZOFFSETFROM:+0000
TZOFFSETTO:+0000
TZNAME:UTC
DTSTART:20140101T000000
END:STANDARD
END:VTIMEZONE
BEGIN:VEVENT
DTSTART;TZID=UTC:20150430T080000
DTEND;TZID=UTC:20150430T170000
DTSTAMP:20260425T125502
CREATED:20150307T172616Z
LAST-MODIFIED:20150307T174239Z
UID:876-1430380800-1430413200@palmbeachcasinotours.com
SUMMARY:Liberty of the Seas Farewell Cruise
DESCRIPTION:4 Nights Western Caribbean Cruise departs Fort Lauderdale\, Florida\nEVERYONE IS INVITED!!\nBook this 4 nights cruise out of Ft. Lauderdale at complimentary* or at the casino discounted rate. \nWELCOME ABOARD PARTY – Premium cocktails and hors d’ourves\, mingle and meet with the ship’s top officers. \nDAY 1  Thursday\, April 30\, 2015: Departs Fort Lauderdale at 4:30 PM\nDAY 2  Friday\, May 1\, 2015: Cruising\nDay 3  Saturday\, May 2\, 2015:Arrives 7:30 am\, Departs 6 pm (docked)\nDay 4  Sunday\, May 3\, 2015:Cruising\nDay 5  Monday\, May 4\, 2015:Arrives 7 am\, Fort Lauderdale \nPort fees and taxes are $74.75 per person\n*complimentary cabin offer based on casino play level \nACT NOW – LIMITED CABIN AVAILIBILITY – CALL 877-561-7447
URL:https://palmbeachcasinotours.com/event/liberty-of-the-seas-farewell-cruise/
END:VEVENT
BEGIN:VEVENT
DTSTART;TZID=UTC:20150326T160000
DTEND;TZID=UTC:20150330T160000
DTSTAMP:20260425T125502
CREATED:20150219T220325Z
LAST-MODIFIED:20150220T205000Z
UID:872-1427385600-1427731200@palmbeachcasinotours.com
SUMMARY:High Stakes on the High Seas
DESCRIPTION:Celebrity Constellation Cruise to Nassau\, Bahamas and Key West\n\n\n\n\n\n\n\n\n\n• Welcome Cocktail Party • 3X4X5 Odds on Craps Table • Hand shuffle on $25 Black Jack Table • Double points early bird special on slot machines • Earn $200 Theo on first night & receive VIP Disembarkation & Chocolate Covered Strawberries in your cabin. \n\nComplimentary accommodations are ALWAYS available to QUALIFIED players.  Call our VIP line 877.561.7447 to confirm your travel dates. \n\n\nITINERARY:\nThursday\, March 26\, Ft. Lauderdale\, FL\,  4 PM\, Boarding\nFriday\, March 27\, Nassau\, Bahamas\, 8 AM- 5 PM\, Docked\nSaturday\, March 28\, At Sea\nSunday\, March 29\, Key West\, FL 8 AM-5 PM\, Docked\nMonday\,  March 30\, Ft. Lauderdale\, FL\, 7 AM Departure\n\n\n\n\n\n 
URL:https://palmbeachcasinotours.com/event/high-stakes-on-the-high-seas/
END:VEVENT
BEGIN:VEVENT
DTSTART;TZID=UTC:20150306T080000
DTEND;TZID=UTC:20150316T170000
DTSTAMP:20260425T125502
CREATED:20141223T001811Z
LAST-MODIFIED:20141223T001811Z
UID:417-1425628800-1426525200@palmbeachcasinotours.com
SUMMARY:Cruise to A Million Slot Tournament Series
DESCRIPTION:Cruise aboard Norwegian Pearl.\nInvitational Slot Tournament with a chance to win $10\,000 first place prize and entry into Caesars Entertainment 2016 Millionaire Maker Slot Tournament.
URL:https://palmbeachcasinotours.com/event/cruise-to-a-million-slot-tournament-series/
END:VEVENT
BEGIN:VEVENT
DTSTART;TZID=UTC:20150209T090000
DTEND;TZID=UTC:20150209T220000
DTSTAMP:20260425T125502
CREATED:20141223T002433Z
LAST-MODIFIED:20141223T002433Z
UID:419-1423472400-1423519200@palmbeachcasinotours.com
SUMMARY:Tripleshot Slot Tournament Series
DESCRIPTION:Invitational Slot Tournament Trio with $20\,000 in cash and prizes. Bonus Reward Points if you book two or more dates.\nNorwegian Gem February 9\, 2015\nNorwegian Dawn May 1\, 2015\nNorwegian Escape December 5\, 2015
URL:https://palmbeachcasinotours.com/event/tripleshot-slot-tournament-series/
LOCATION:Norwegian Gem\, FL
END:VEVENT
END:VCALENDAR