BEGIN:VCALENDAR
VERSION:2.0
PRODID:-//Palm Beach Casino Tours - ECPv6.15.20//NONSGML v1.0//EN
CALSCALE:GREGORIAN
METHOD:PUBLISH
X-WR-CALNAME:Palm Beach Casino Tours
X-ORIGINAL-URL:https://palmbeachcasinotours.com
X-WR-CALDESC:Events for Palm Beach Casino Tours
REFRESH-INTERVAL;VALUE=DURATION:PT1H
X-Robots-Tag:noindex
X-PUBLISHED-TTL:PT1H
BEGIN:VTIMEZONE
TZID:UTC
BEGIN:STANDARD
TZOFFSETFROM:+0000
TZOFFSETTO:+0000
TZNAME:UTC
DTSTART:20220101T000000
END:STANDARD
END:VTIMEZONE
BEGIN:VEVENT
DTSTART;VALUE=DATE:20240920
DTEND;VALUE=DATE:20241002
DTSTAMP:20260424T003307
CREATED:20230808T202358Z
LAST-MODIFIED:20240229T195719Z
UID:2869-1726790400-1727827199@palmbeachcasinotours.com
SUMMARY:Join us for our Mediterranean Adventure
DESCRIPTION:
URL:https://palmbeachcasinotours.com/event/sept-20-oct-1-2024-mediterranean-adventure/
ATTACH;FMTTYPE=image/jpeg:https://palmbeachcasinotours.com/wp-content/uploads/2023/08/Capture.jpg
END:VEVENT
BEGIN:VEVENT
DTSTART;VALUE=DATE:20240906
DTEND;VALUE=DATE:20240910
DTSTAMP:20260424T003307
CREATED:20240618T191722Z
LAST-MODIFIED:20240618T191722Z
UID:2962-1725580800-1725926399@palmbeachcasinotours.com
SUMMARY:Aleksandra's Birthday Cruise!
DESCRIPTION:Join us to celebrate this special occasion on board of Celebrity Reflection September 6th\, 2024.
URL:https://palmbeachcasinotours.com/event/aleksandras-birthday-cruise-2/
ATTACH;FMTTYPE=image/jpeg:https://palmbeachcasinotours.com/wp-content/uploads/2024/06/Capture.jpg
END:VEVENT
BEGIN:VEVENT
DTSTART;VALUE=DATE:20240802
DTEND;VALUE=DATE:20240806
DTSTAMP:20260424T003307
CREATED:20240509T150707Z
LAST-MODIFIED:20240509T150707Z
UID:2954-1722556800-1722902399@palmbeachcasinotours.com
SUMMARY:Weekend Group Cruise on Celebrity Reflection 08.02.2024
DESCRIPTION:
URL:https://palmbeachcasinotours.com/event/weekend-group-cruise-on-celebrity-reflection-08-02-2024/
ATTACH;FMTTYPE=image/jpeg:https://palmbeachcasinotours.com/wp-content/uploads/2024/05/Capture.jpg
END:VEVENT
BEGIN:VEVENT
DTSTART;VALUE=DATE:20240621
DTEND;VALUE=DATE:20240625
DTSTAMP:20260424T003307
CREATED:20240423T165550Z
LAST-MODIFIED:20240423T165550Z
UID:2932-1718928000-1719273599@palmbeachcasinotours.com
SUMMARY:Weekend Group Cruise on Reflection 06.21.2024
DESCRIPTION:
URL:https://palmbeachcasinotours.com/event/weekend-group-cruise-on-reflection-06-21-2024/
ATTACH;FMTTYPE=image/jpeg:https://palmbeachcasinotours.com/wp-content/uploads/2024/04/Capture-1.jpg
END:VEVENT
BEGIN:VEVENT
DTSTART;VALUE=DATE:20240614
DTEND;VALUE=DATE:20240617
DTSTAMP:20260424T003307
CREATED:20240423T185005Z
LAST-MODIFIED:20240424T151057Z
UID:2935-1718323200-1718582399@palmbeachcasinotours.com
SUMMARY:Margaritaville Group Cruise 06.14.2024
DESCRIPTION:
URL:https://palmbeachcasinotours.com/event/margaritaville-group-cruise-06-14-2024/
ATTACH;FMTTYPE=image/jpeg:https://palmbeachcasinotours.com/wp-content/uploads/2024/04/Capture-3.jpg
END:VEVENT
BEGIN:VEVENT
DTSTART;VALUE=DATE:20240526
DTEND;VALUE=DATE:20240602
DTSTAMP:20260424T003307
CREATED:20240226T173430Z
LAST-MODIFIED:20240226T173542Z
UID:2916-1716681600-1717286399@palmbeachcasinotours.com
SUMMARY:Celebrity Beyond Group Cruise 05.26
DESCRIPTION:
URL:https://palmbeachcasinotours.com/event/celebrity-beyond-group-cruise-05-26/
ATTACH;FMTTYPE=image/jpeg:https://palmbeachcasinotours.com/wp-content/uploads/2024/02/Capture.jpg
END:VEVENT
BEGIN:VEVENT
DTSTART;VALUE=DATE:20240419
DTEND;VALUE=DATE:20240422
DTSTAMP:20260424T003307
CREATED:20240325T140000Z
LAST-MODIFIED:20240325T140000Z
UID:2926-1713484800-1713743999@palmbeachcasinotours.com
SUMMARY:Margaritaville at Sea Group Cruise 04.19
DESCRIPTION:Exclusive Spring Offers! Don’t Miss!
URL:https://palmbeachcasinotours.com/event/margaritaville-at-sea-group-cruise-04-19/
ATTACH;FMTTYPE=image/jpeg:https://palmbeachcasinotours.com/wp-content/uploads/2024/03/Capture-1.jpg
END:VEVENT
BEGIN:VEVENT
DTSTART;VALUE=DATE:20240407
DTEND;VALUE=DATE:20240414
DTSTAMP:20260424T003307
CREATED:20240108T160923Z
LAST-MODIFIED:20240108T161035Z
UID:2903-1712448000-1713052799@palmbeachcasinotours.com
SUMMARY:Celebrity Reflection Group Cruise 04.07.2024
DESCRIPTION:Join us on this great adventure!
URL:https://palmbeachcasinotours.com/event/celebrity-reflection-group-cruise-04-07-2024/
ATTACH;FMTTYPE=image/png:https://palmbeachcasinotours.com/wp-content/uploads/2024/01/Capture.png
END:VEVENT
BEGIN:VEVENT
DTSTART;VALUE=DATE:20240322
DTEND;VALUE=DATE:20240325
DTSTAMP:20260424T003307
CREATED:20240306T152002Z
LAST-MODIFIED:20240306T152002Z
UID:2922-1711065600-1711324799@palmbeachcasinotours.com
SUMMARY:Group Cruise on Margaritaville 03.22.2024
DESCRIPTION:
URL:https://palmbeachcasinotours.com/event/group-cruise-on-margaritaville-03-22-2024/
ATTACH;FMTTYPE=image/jpeg:https://palmbeachcasinotours.com/wp-content/uploads/2024/03/Capture.jpg
END:VEVENT
BEGIN:VEVENT
DTSTART;VALUE=DATE:20240308
DTEND;VALUE=DATE:20240312
DTSTAMP:20260424T003307
CREATED:20240122T222252Z
LAST-MODIFIED:20240122T222252Z
UID:2907-1709856000-1710201599@palmbeachcasinotours.com
SUMMARY:Group Cruise on Liberty of The Seas
DESCRIPTION:
URL:https://palmbeachcasinotours.com/event/group-cruise-on-liberty-of-the-seas/
ATTACH;FMTTYPE=image/png:https://palmbeachcasinotours.com/wp-content/uploads/2024/01/Capture-1.png
END:VEVENT
BEGIN:VEVENT
DTSTART;VALUE=DATE:20240223
DTEND;VALUE=DATE:20240226
DTSTAMP:20260424T003307
CREATED:20240216T170649Z
LAST-MODIFIED:20240216T181353Z
UID:2911-1708646400-1708905599@palmbeachcasinotours.com
SUMMARY:Group Cruise on Margaritaville February 23rd
DESCRIPTION:Super Exciting Offers! Don’t miss it!
URL:https://palmbeachcasinotours.com/event/group-cruise-on-margaritaville-february-23rd/
ATTACH;FMTTYPE=image/png:https://palmbeachcasinotours.com/wp-content/uploads/2024/02/Capture.png
END:VEVENT
BEGIN:VEVENT
DTSTART;VALUE=DATE:20240112
DTEND;VALUE=DATE:20240115
DTSTAMP:20260424T003307
CREATED:20231116T145110Z
LAST-MODIFIED:20231116T164754Z
UID:2898-1705017600-1705276799@palmbeachcasinotours.com
SUMMARY:Margaritaville At Sea Group Cruise
DESCRIPTION:
URL:https://palmbeachcasinotours.com/event/margaritaville-at-sea-group-cruise-2/
ATTACH;FMTTYPE=image/png:https://palmbeachcasinotours.com/wp-content/uploads/2023/11/Capture1-1.png
END:VEVENT
BEGIN:VEVENT
DTSTART;VALUE=DATE:20231229
DTEND;VALUE=DATE:20231230
DTSTAMP:20260424T003307
CREATED:20230313T185010Z
LAST-MODIFIED:20231106T171351Z
UID:2828-1703808000-1703894399@palmbeachcasinotours.com
SUMMARY:Let's Toast to 2024 on Celebrity Ship!
DESCRIPTION:Bring in the New Year to the waters. Very Limited Availability!
URL:https://palmbeachcasinotours.com/event/lets-toast-to-2024-on-celebrity-ship/
ATTACH;FMTTYPE=image/png:https://palmbeachcasinotours.com/wp-content/uploads/2023/03/Capture-5.png
END:VEVENT
BEGIN:VEVENT
DTSTART;VALUE=DATE:20231214
DTEND;VALUE=DATE:20231219
DTSTAMP:20260424T003307
CREATED:20231002T143837Z
LAST-MODIFIED:20231002T150704Z
UID:2885-1702512000-1702943999@palmbeachcasinotours.com
SUMMARY:Holiday Party on Celebrity Silhouette
DESCRIPTION:
URL:https://palmbeachcasinotours.com/event/holiday-party-on-celebrity-silhouette/
ATTACH;FMTTYPE=image/png:https://palmbeachcasinotours.com/wp-content/uploads/2023/10/Capture-1.png
END:VEVENT
BEGIN:VEVENT
DTSTART;VALUE=DATE:20231201
DTEND;VALUE=DATE:20240301
DTSTAMP:20260424T003307
CREATED:20231116T144511Z
LAST-MODIFIED:20231116T144511Z
UID:2895-1701388800-1709251199@palmbeachcasinotours.com
SUMMARY:Special Casino Promotion! Margaritaville January & February\, 2024
DESCRIPTION:
URL:https://palmbeachcasinotours.com/event/special-casino-promotion-margaritaville-january-february-2024/
ATTACH;FMTTYPE=image/png:https://palmbeachcasinotours.com/wp-content/uploads/2023/11/Capture2.png
END:VEVENT
BEGIN:VEVENT
DTSTART;VALUE=DATE:20231122
DTEND;VALUE=DATE:20231127
DTSTAMP:20260424T003307
CREATED:20230321T162324Z
LAST-MODIFIED:20230330T163858Z
UID:2837-1700611200-1701043199@palmbeachcasinotours.com
SUMMARY:Inaugural Cruise for Thanksgiving!
DESCRIPTION:NEW Celebrity Ascent November 22\, 2023. Book Today!
URL:https://palmbeachcasinotours.com/event/inaugural-cruise-for-thanksgiving/
ATTACH;FMTTYPE=image/png:https://palmbeachcasinotours.com/wp-content/uploads/2023/03/Capture-4.png
END:VEVENT
BEGIN:VEVENT
DTSTART;VALUE=DATE:20231004
DTEND;VALUE=DATE:20231009
DTSTAMP:20260424T003307
CREATED:20230920T173330Z
LAST-MODIFIED:20230920T173330Z
UID:2878-1696377600-1696809599@palmbeachcasinotours.com
SUMMARY:4-Night Fire and Sunset Soirees Cruise
DESCRIPTION:Key West and Bimini Bahamas from Miami. Book Today!
URL:https://palmbeachcasinotours.com/event/4-night-fire-and-sunset-soirees-cruise/
ATTACH;FMTTYPE=image/png:https://palmbeachcasinotours.com/wp-content/uploads/2023/09/Capture.png
END:VEVENT
BEGIN:VEVENT
DTSTART;VALUE=DATE:20230929
DTEND;VALUE=DATE:20231005
DTSTAMP:20260424T003307
CREATED:20230920T175705Z
LAST-MODIFIED:20230920T175705Z
UID:2881-1695945600-1696463999@palmbeachcasinotours.com
SUMMARY:Group Cruise Virgin Voyages
DESCRIPTION:Puerto Plata & Bimini from Miami. Book Today!
URL:https://palmbeachcasinotours.com/event/group-cruise-virgin-voyages/
ATTACH;FMTTYPE=image/png:https://palmbeachcasinotours.com/wp-content/uploads/2023/09/Capture-1.png
END:VEVENT
BEGIN:VEVENT
DTSTART;VALUE=DATE:20230922
DTEND;VALUE=DATE:20230925
DTSTAMP:20260424T003307
CREATED:20230808T204025Z
LAST-MODIFIED:20230808T204025Z
UID:2875-1695340800-1695599999@palmbeachcasinotours.com
SUMMARY:Margaritaville At Sea September Group Cruise
DESCRIPTION:
URL:https://palmbeachcasinotours.com/event/margaritaville-at-sea-september-group-cruise/
ATTACH;FMTTYPE=image/png:https://palmbeachcasinotours.com/wp-content/uploads/2023/08/Capture-2.png
END:VEVENT
BEGIN:VEVENT
DTSTART;VALUE=DATE:20230817
DTEND;VALUE=DATE:20230827
DTSTAMP:20260424T003307
CREATED:20230228T160738Z
LAST-MODIFIED:20230228T160738Z
UID:2797-1692230400-1693094399@palmbeachcasinotours.com
SUMMARY:Celebrity Constellation
DESCRIPTION:Join us on a group cruise on Celebrity Constellation!\nAug 17th-Aug 26th\, 2023 \nVenice\, Italy – Zadar\, Croatia – Dubrovnik\, Croatia – Naples\, Italy – Portofino\, Italy – Florence\, Italy – Rome\, Italy
URL:https://palmbeachcasinotours.com/event/celebrity-constellation/
ATTACH;FMTTYPE=image/png:https://palmbeachcasinotours.com/wp-content/uploads/2023/02/Capture-3.png
END:VEVENT
BEGIN:VEVENT
DTSTART;VALUE=DATE:20230811
DTEND;VALUE=DATE:20230814
DTSTAMP:20260424T003308
CREATED:20230509T182354Z
LAST-MODIFIED:20230509T182354Z
UID:2851-1691712000-1691971199@palmbeachcasinotours.com
SUMMARY:Group Cruise on Margaritaville
DESCRIPTION:It’s Time To Go On Your Next Vacation! Join us on board of Margaritaville at Sea for a fantastic 2-night getaway!
URL:https://palmbeachcasinotours.com/event/group-cruise-on-margaritaville/
ATTACH;FMTTYPE=image/png:https://palmbeachcasinotours.com/wp-content/uploads/2023/05/Capture-1.png
END:VEVENT
BEGIN:VEVENT
DTSTART;VALUE=DATE:20230707
DTEND;VALUE=DATE:20230720
DTSTAMP:20260424T003308
CREATED:20230203T212727Z
LAST-MODIFIED:20230228T161052Z
UID:2772-1688688000-1689811199@palmbeachcasinotours.com
SUMMARY:Iceland\, Ireland and Scotland  Apex July 7\, 2023
DESCRIPTION:Palm Beach Casino Tours\ninvites you to discover stunning natural wonders of Iceland\, Ireland and Scotland on an unforgettable guided group cruise\n\n\nCelebrity Apex\nJuly 7\, 2023\n\n\n\n12-night cruise\n\nRotterdam\, Netherlands – Akureyri\, Iceland – Isafjordur\, Iceland – Reykjavik\, Iceland – Greenock\, Scotland – Belfast\, Northern Ireland – Cobh\, Ireland – Rotterdam\, Netherlands \n\n  \n-Welcome Aboard Cocktail Party-\n-Complimentary Beverages in the Casino-\n-Private Slots Tournament-\n-Up to $5000 Daily Cash Withdrawal-\n-All Inclusive Packages Available*-
URL:https://palmbeachcasinotours.com/event/iceland-ireland-and-scotland-apex-july-7-2023/
ATTACH;FMTTYPE=image/jpeg:https://palmbeachcasinotours.com/wp-content/uploads/2023/02/unnamed-1.jpg
ORGANIZER;CN="Palm Beach Casino Tours":MAILTO:Info@PBCTours.com
END:VEVENT
BEGIN:VEVENT
DTSTART;VALUE=DATE:20230616
DTEND;VALUE=DATE:20230619
DTSTAMP:20260424T003308
CREATED:20230228T162227Z
LAST-MODIFIED:20230307T154644Z
UID:2800-1686873600-1687132799@palmbeachcasinotours.com
SUMMARY:Father's Day
DESCRIPTION:2-night Group Cruise June 16-18\, 2023 to Grand Bahama Island from Palm Beach \n 
URL:https://palmbeachcasinotours.com/event/fathers-day/
ATTACH;FMTTYPE=image/png:https://palmbeachcasinotours.com/wp-content/uploads/2023/02/Capture-7.png
END:VEVENT
BEGIN:VEVENT
DTSTART;VALUE=DATE:20230525
DTEND;VALUE=DATE:20230529
DTSTAMP:20260424T003308
CREATED:20230302T203455Z
LAST-MODIFIED:20230302T214542Z
UID:2816-1684972800-1685318399@palmbeachcasinotours.com
SUMMARY:MSC Seaside May 25th Group Cruise
DESCRIPTION:Celebrate Summer with Palm Beach Casino Tours! \nMSC Seaside invites you to the private island on 3-night group cruise to Bahamas\, May 25-28\, 2023.
URL:https://palmbeachcasinotours.com/event/2816/
ATTACH;FMTTYPE=image/png:https://palmbeachcasinotours.com/wp-content/uploads/2023/03/Capture.png
END:VEVENT
BEGIN:VEVENT
DTSTART;VALUE=DATE:20230505
DTEND;VALUE=DATE:20230508
DTSTAMP:20260424T003308
CREATED:20230223T185344Z
LAST-MODIFIED:20230228T152419Z
UID:2783-1683244800-1683503999@palmbeachcasinotours.com
SUMMARY:Cinco De Mayo
DESCRIPTION:Celebrate Cinco De Mayo with us! \nGroup cruise May 5 – May 7\, 2023 from Palm Beach to Grand Bahama Island \n 
URL:https://palmbeachcasinotours.com/event/cinco-de-mayo/
ATTACH;FMTTYPE=image/png:https://palmbeachcasinotours.com/wp-content/uploads/2023/02/Capture.png
END:VEVENT
BEGIN:VEVENT
DTSTART;VALUE=DATE:20230408
DTEND;VALUE=DATE:20230416
DTSTAMP:20260424T003308
CREATED:20230228T170557Z
LAST-MODIFIED:20230228T170557Z
UID:2813-1680912000-1681603199@palmbeachcasinotours.com
SUMMARY:Group Cruise Apex April 8th\, 2023
DESCRIPTION:Palm Beach Casino Tours\ninvites you to join Group Cruise on\nCELEBRITY APEX\nApril 8\, 2023\n7-night cruise \nFort Lauderdale\, FL – San Juan\, Puerto Rico – Tortola\, British Virgin Islands – Basseterre\, St. Kitts – Fort Lauderdale\, FL \nOur Invitation Includes: \n-Welcome Aboard Cocktail Party\n-Complimentary Drinks While Gambling\n-Private Slots Tournament\n-Up to $5000 Daily Cash Withdrawal
URL:https://palmbeachcasinotours.com/event/group-cruise-apex-april-8th-2023/
ATTACH;FMTTYPE=image/png:https://palmbeachcasinotours.com/wp-content/uploads/2023/02/Capture-6.png
END:VEVENT
BEGIN:VEVENT
DTSTART;VALUE=DATE:20230316
DTEND;VALUE=DATE:20230319
DTSTAMP:20260424T003308
CREATED:20230228T155945Z
LAST-MODIFIED:20230228T155945Z
UID:2793-1678924800-1679183999@palmbeachcasinotours.com
SUMMARY:Blackjack Tournament
DESCRIPTION:Join us on board of Margaritaville at Sea\, March 16-18\, 2023! \n1st place – $5\,000 \n2nd place – $3\,000 \n3rd place – $2\,000 \nSailing from Palm Beach to Grand Bahama Island
URL:https://palmbeachcasinotours.com/event/blackjack-tournament/
ATTACH;FMTTYPE=image/png:https://palmbeachcasinotours.com/wp-content/uploads/2023/02/Capture-2.png
END:VEVENT
BEGIN:VEVENT
DTSTART;VALUE=DATE:20230310
DTEND;VALUE=DATE:20230313
DTSTAMP:20260424T003308
CREATED:20230228T164813Z
LAST-MODIFIED:20230228T164813Z
UID:2804-1678406400-1678665599@palmbeachcasinotours.com
SUMMARY:Group Cruise Margaritaville at Sea March 10th
DESCRIPTION:Palm Beach Casino Tours invites you to Group Cruise\nMarch 10\, 2023\, 2-night\nPalm Beach\, FL – Freeport\, Bahamas – Palm Beach\, FL\n\n\n-Welcome Aboard Cocktail Party\n-Complimentary Beverages in the Casino\n-Complimentary Spa Services*\n-Express Embarkation & Disembarkation\nAnd More…
URL:https://palmbeachcasinotours.com/event/group-cruise-margaritaville-at-sea-march-10th/
ATTACH;FMTTYPE=image/png:https://palmbeachcasinotours.com/wp-content/uploads/2023/02/Capture-5.png
END:VEVENT
BEGIN:VEVENT
DTSTART;VALUE=DATE:20230223
DTEND;VALUE=DATE:20230228
DTSTAMP:20260424T003308
CREATED:20230125T170725Z
LAST-MODIFIED:20230125T170725Z
UID:2723-1677110400-1677542399@palmbeachcasinotours.com
SUMMARY:Group Cruise 4-night Feb 23\, 2023
DESCRIPTION:
URL:https://palmbeachcasinotours.com/event/group-cruise-4-night-feb-23-2023/
LOCATION:Cruises
END:VEVENT
BEGIN:VEVENT
DTSTART;VALUE=DATE:20230113
DTEND;VALUE=DATE:20230116
DTSTAMP:20260424T003308
CREATED:20221101T152326Z
LAST-MODIFIED:20221101T152326Z
UID:2707-1673568000-1673827199@palmbeachcasinotours.com
SUMMARY:Inaugural Pirates & Parrot Heads “Party in Paradise”
DESCRIPTION:OFFER DETAILS:\n*Typical Casino Play during the cruise is expected. This offer does not include: admin fee\, taxes\, port fees\, gratuities\, transportation to/from embarkation port and any onboard charges. All quoted charges are subject to change. Offer recipient must be present onboard for the sailing. If offer recipient is not onboard the sailing\, Bahamas Paradise will charge the full cruise fare at the current rates for the individual guest who boarded. Travel protection is strongly recommended. Management reserves all rights to change\, cancel or amend Offer at any time without notice. Palm Beach Casino Tours is a licensed independent casino marketing representative. Reservations are subject to cancellation penalties. Penalties vary by ship and sail date. All cancellations must go through Palm Beach Casino Tours.
URL:https://palmbeachcasinotours.com/event/inaugural-pirates-parrot-heads-party-in-paradise/
LOCATION:Cruises
ORGANIZER;CN="Palm Beach Casino Tours":MAILTO:Info@PBCTours.com
END:VEVENT
END:VCALENDAR