BEGIN:VCALENDAR
VERSION:2.0
PRODID:-//Palm Beach Casino Tours - ECPv6.15.20//NONSGML v1.0//EN
CALSCALE:GREGORIAN
METHOD:PUBLISH
X-ORIGINAL-URL:https://palmbeachcasinotours.com
X-WR-CALDESC:Events for Palm Beach Casino Tours
REFRESH-INTERVAL;VALUE=DURATION:PT1H
X-Robots-Tag:noindex
X-PUBLISHED-TTL:PT1H
BEGIN:VTIMEZONE
TZID:UTC
BEGIN:STANDARD
TZOFFSETFROM:+0000
TZOFFSETTO:+0000
TZNAME:UTC
DTSTART:20180101T000000
END:STANDARD
END:VTIMEZONE
BEGIN:VEVENT
DTSTART;VALUE=DATE:20230223
DTEND;VALUE=DATE:20230228
DTSTAMP:20260424T002817
CREATED:20230125T170725Z
LAST-MODIFIED:20230125T170725Z
UID:2723-1677110400-1677542399@palmbeachcasinotours.com
SUMMARY:Group Cruise 4-night Feb 23\, 2023
DESCRIPTION:
URL:https://palmbeachcasinotours.com/event/group-cruise-4-night-feb-23-2023/
LOCATION:Cruises
END:VEVENT
BEGIN:VEVENT
DTSTART;VALUE=DATE:20230113
DTEND;VALUE=DATE:20230116
DTSTAMP:20260424T002817
CREATED:20221101T152326Z
LAST-MODIFIED:20221101T152326Z
UID:2707-1673568000-1673827199@palmbeachcasinotours.com
SUMMARY:Inaugural Pirates & Parrot Heads “Party in Paradise”
DESCRIPTION:OFFER DETAILS:\n*Typical Casino Play during the cruise is expected. This offer does not include: admin fee\, taxes\, port fees\, gratuities\, transportation to/from embarkation port and any onboard charges. All quoted charges are subject to change. Offer recipient must be present onboard for the sailing. If offer recipient is not onboard the sailing\, Bahamas Paradise will charge the full cruise fare at the current rates for the individual guest who boarded. Travel protection is strongly recommended. Management reserves all rights to change\, cancel or amend Offer at any time without notice. Palm Beach Casino Tours is a licensed independent casino marketing representative. Reservations are subject to cancellation penalties. Penalties vary by ship and sail date. All cancellations must go through Palm Beach Casino Tours.
URL:https://palmbeachcasinotours.com/event/inaugural-pirates-parrot-heads-party-in-paradise/
LOCATION:Cruises
ORGANIZER;CN="Palm Beach Casino Tours":MAILTO:Info@PBCTours.com
END:VEVENT
BEGIN:VEVENT
DTSTART;VALUE=DATE:20221229
DTEND;VALUE=DATE:20221230
DTSTAMP:20260424T002817
CREATED:20220708T175016Z
LAST-MODIFIED:20220708T175016Z
UID:2644-1672272000-1672272000@palmbeachcasinotours.com
SUMMARY:New Year's Group Cruise\, December 29th
DESCRIPTION:
URL:https://palmbeachcasinotours.com/event/new-years-group-cruise-december-29th/
ORGANIZER;CN="Palm Beach Casino Tours":MAILTO:Info@PBCTours.com
END:VEVENT
BEGIN:VEVENT
DTSTART;VALUE=DATE:20221216
DTEND;VALUE=DATE:20221220
DTSTAMP:20260424T002817
CREATED:20221005T152225Z
LAST-MODIFIED:20221005T152549Z
UID:2700-1671148800-1671494399@palmbeachcasinotours.com
SUMMARY:Holidays Group Cruise -Liberty of the Seas
DESCRIPTION:
URL:https://palmbeachcasinotours.com/event/holidays-group-cruise-liberty-of-the-seas/
LOCATION:Royal Caribbean
ORGANIZER;CN="Palm Beach Casino Tours":MAILTO:Info@PBCTours.com
END:VEVENT
BEGIN:VEVENT
DTSTART;VALUE=DATE:20221127
DTEND;VALUE=DATE:20221128
DTSTAMP:20260424T002817
CREATED:20221004T174647Z
LAST-MODIFIED:20221004T174647Z
UID:2691-1669507200-1669593599@palmbeachcasinotours.com
SUMMARY:New! Celebrity Beyond November 27\, 2022
DESCRIPTION:
URL:https://palmbeachcasinotours.com/event/new-celebrity-beyond-november-27-2022/
LOCATION:Grand Celebration\, Riviera Port\, Riviera Beach\, FL\, 33404\, United States
END:VEVENT
BEGIN:VEVENT
DTSTART;VALUE=DATE:20221031
DTEND;VALUE=DATE:20221106
DTSTAMP:20260424T002817
CREATED:20220708T173108Z
LAST-MODIFIED:20220815T201354Z
UID:2637-1667174400-1667692799@palmbeachcasinotours.com
SUMMARY:2022 Halloween Group Cruise
DESCRIPTION: 
URL:https://palmbeachcasinotours.com/event/2022-halloween-group-cruise/
ORGANIZER;CN="Palm Beach Casino Tours":MAILTO:Info@PBCTours.com
END:VEVENT
BEGIN:VEVENT
DTSTART;VALUE=DATE:20220909
DTEND;VALUE=DATE:20220913
DTSTAMP:20260424T002817
CREATED:20220708T171142Z
LAST-MODIFIED:20220708T171142Z
UID:2631-1662681600-1663027199@palmbeachcasinotours.com
SUMMARY:Virgo Birthday Celebration Cruise
DESCRIPTION:
URL:https://palmbeachcasinotours.com/event/virgo-birthday-celebration-cruise/
LOCATION:Royal Caribbean
ATTACH;FMTTYPE=image/png:https://palmbeachcasinotours.com/wp-content/uploads/2022/07/Virgo-1.png
ORGANIZER;CN="Palm Beach Casino Tours":MAILTO:Info@PBCTours.com
END:VEVENT
BEGIN:VEVENT
DTSTART;VALUE=DATE:20220826
DTEND;VALUE=DATE:20220829
DTSTAMP:20260424T002817
CREATED:20220711T203744Z
LAST-MODIFIED:20220711T204107Z
UID:2654-1661472000-1661731199@palmbeachcasinotours.com
SUMMARY:Margaritaville at Sea Group Cruise
DESCRIPTION:
URL:https://palmbeachcasinotours.com/event/margaritaville-at-sea-group-cruise/
ORGANIZER;CN="Palm Beach Casino Tours":MAILTO:Info@PBCTours.com
END:VEVENT
BEGIN:VEVENT
DTSTART;TZID=UTC:20220729T080000
DTEND;TZID=UTC:20220804T170000
DTSTAMP:20260424T002817
CREATED:20220531T164135Z
LAST-MODIFIED:20220531T164135Z
UID:2616-1659081600-1659632400@palmbeachcasinotours.com
SUMMARY:Alaska Cruise Invitation July 29\, 2022
DESCRIPTION:
URL:https://palmbeachcasinotours.com/event/alaska-cruise-invitation-july-29-2022/
ORGANIZER;CN="Palm Beach Casino Tours":MAILTO:Info@PBCTours.com
END:VEVENT
BEGIN:VEVENT
DTSTART;TZID=UTC:20220617T170000
DTEND;TZID=UTC:20220619T080000
DTSTAMP:20260424T002817
CREATED:20220520T162043Z
LAST-MODIFIED:20220520T162043Z
UID:2611-1655485200-1655625600@palmbeachcasinotours.com
SUMMARY:Group Cruise on Margaritaville at Sea
DESCRIPTION:
URL:https://palmbeachcasinotours.com/event/group-cruise-on-margaritaville-at-sea/
ORGANIZER;CN="Palm Beach Casino Tours":MAILTO:Info@PBCTours.com
END:VEVENT
BEGIN:VEVENT
DTSTART;TZID=UTC:20220212T080000
DTEND;TZID=UTC:20220220T170000
DTSTAMP:20260424T002817
CREATED:20211216T173552Z
LAST-MODIFIED:20211216T193730Z
UID:2566-1644652800-1645376400@palmbeachcasinotours.com
SUMMARY:Valentine's Day Group 8-night Cruise
DESCRIPTION:Come Join Us for Some Fun!\nOur Invitation Includes\n\n– Welcome aboard Cocktail Party\n\n– Midnight Champagne Toast\n\n– Daily Hot Seat Promotions\n\n-Private Slots Tournament*\n\n-Complimentary Drinks while Gambling\n\n– Up to $5\,000 Cash Withdraw per Day\n\n\n\n\n\nCall us for more details\n877-561-7447\n\n\n\n\nComplimentary or discounted rates are always\navailable to qualified casino players*\nPort fees and taxes are additional\n\n\n 
URL:https://palmbeachcasinotours.com/event/valentines-day-group-8-night-cruise/
LOCATION:Royal Caribbean
ORGANIZER;CN="Palm Beach Casino Tours":MAILTO:Info@PBCTours.com
END:VEVENT
BEGIN:VEVENT
DTSTART;TZID=UTC:20220114T080000
DTEND;TZID=UTC:20220116T170000
DTSTAMP:20260424T002817
CREATED:20211216T192930Z
LAST-MODIFIED:20211216T193025Z
UID:2573-1642147200-1642352400@palmbeachcasinotours.com
SUMMARY:Group Cruise on Grand Classica! January 14th
DESCRIPTION:Palm Beach Casino Tours\nInvites you to our Casino Group Cruise\non Grand Classica\n\n\nJanuary 14\, 2022\n2-night cruise\nPalm Beach\, FL |Freeport\, Bahamas | Palm Beach\, FL\n\n\n\n\nInvitation Includes  \n\nCocktail party – appetizers and premium drinks \nComplimentary Slot Tournament\nFREE $25 slot play or $50 match play vouchers\n VIP check-in\, live entertainment\, \nadvance dinner reservations\, express disembarkation\, \nand more!\n\n\n\n\n\n\nFor Requirements for Vaccinated and Non-Vaccinated\nGuests Please Click here\n\n\n\n\n\nComplimentary or discounted rates are always\navailable to qualified casino players*\nPort fees and taxes are additional\n\nPlease call 877-561-7447 to book
URL:https://palmbeachcasinotours.com/event/group-cruise-on-grand-classica-january-14th/
LOCATION:Grand Classica
ORGANIZER;CN="Palm Beach Casino Tours":MAILTO:Info@PBCTours.com
END:VEVENT
BEGIN:VEVENT
DTSTART;TZID=UTC:20211230T120000
DTEND;TZID=UTC:20220107T080000
DTSTAMP:20260424T002817
CREATED:20210910T141554Z
LAST-MODIFIED:20210910T142945Z
UID:2519-1640865600-1641542400@palmbeachcasinotours.com
SUMMARY:New Year's Group Cruise\, December 30th
DESCRIPTION:
URL:https://palmbeachcasinotours.com/event/new-years-group-cruise-december-30th/
LOCATION:Royal Caribbean
ORGANIZER;CN="Palm Beach Casino Tours":MAILTO:Info@PBCTours.com
END:VEVENT
BEGIN:VEVENT
DTSTART;TZID=UTC:20211212T160000
DTEND;TZID=UTC:20211222T110000
DTSTAMP:20260424T002817
CREATED:20211004T165712Z
LAST-MODIFIED:20211004T170855Z
UID:2537-1639324800-1640170800@palmbeachcasinotours.com
SUMMARY:CARIBBEAN CACHET group Luxury Cruise on December 12\, 2021
DESCRIPTION:
URL:https://palmbeachcasinotours.com/event/caribbean-cachet-group-luxury-cruise-on-december-12-2021/
LOCATION:Crystal Cruises
ORGANIZER;CN="Palm Beach Casino Tours":MAILTO:Info@PBCTours.com
END:VEVENT
BEGIN:VEVENT
DTSTART;TZID=UTC:20211112T160000
DTEND;TZID=UTC:20211117T120000
DTSTAMP:20260424T002817
CREATED:20211004T172232Z
LAST-MODIFIED:20211004T172232Z
UID:2546-1636732800-1637150400@palmbeachcasinotours.com
SUMMARY:New Ship! Group Cruise on Scarlet Lady on November 12\, 2021
DESCRIPTION:
URL:https://palmbeachcasinotours.com/event/new-ship-group-cruise-on-scarlet-lady-on-november-12-2021/
ORGANIZER;CN="Palm Beach Casino Tours":MAILTO:Info@PBCTours.com
END:VEVENT
BEGIN:VEVENT
DTSTART;TZID=UTC:20211031T120000
DTEND;TZID=UTC:20211107T170000
DTSTAMP:20260424T002817
CREATED:20210910T135050Z
LAST-MODIFIED:20210910T135050Z
UID:2512-1635681600-1636304400@palmbeachcasinotours.com
SUMMARY:2021 Halloween Cruise on October 31st!
DESCRIPTION:
URL:https://palmbeachcasinotours.com/event/2021-halloween-cruise-on-october-31st/
LOCATION:Royal Caribbean
END:VEVENT
BEGIN:VEVENT
DTSTART;TZID=UTC:20211001T120000
DTEND;TZID=UTC:20211004T080000
DTSTAMP:20260424T002817
CREATED:20210910T142726Z
LAST-MODIFIED:20210910T142855Z
UID:2525-1633089600-1633334400@palmbeachcasinotours.com
SUMMARY:Join Us on Freedom of the Seas October 1\, 2021
DESCRIPTION:
URL:https://palmbeachcasinotours.com/event/2525/
LOCATION:Freedom of the Seas\, Nassau\, Bahamas
ORGANIZER;CN="Palm Beach Casino Tours":MAILTO:Info@PBCTours.com
END:VEVENT
BEGIN:VEVENT
DTSTART;TZID=UTC:20210625T080000
DTEND;TZID=UTC:20211001T170000
DTSTAMP:20260424T002817
CREATED:20210625T163333Z
LAST-MODIFIED:20210625T163333Z
UID:2491-1624608000-1633107600@palmbeachcasinotours.com
SUMMARY:Group Cruise Freedom Of the Seas October 1\, 2021
DESCRIPTION:
URL:https://palmbeachcasinotours.com/event/group-cruise-freedom-of-the-seas-october-1-2021/
LOCATION:Freedom of the Seas\, Nassau\, Bahamas
END:VEVENT
BEGIN:VEVENT
DTSTART;TZID=UTC:20210611T080000
DTEND;TZID=UTC:20210831T170000
DTSTAMP:20260424T002817
CREATED:20210611T214450Z
LAST-MODIFIED:20210611T214450Z
UID:2487-1623398400-1630429200@palmbeachcasinotours.com
SUMMARY:Cruises are Back!
DESCRIPTION:New! Odyssey of the Seas\n7-nights from Fort Lauderdale\, Florida debuting July 3\, 2021\n\n\n\n\n\n\n\n\n\n\n\n\n\n\n\n\n\n\n\n\n\n\n\nAllure of the Seas\n7-nights from Port Canaveral\, Florida starting August 8\, 2021\n\n\n\n\n\n\n\n\n\n\n\n\n\n\n\n\n\n\n\n\n\n\n\nSymphony of the Seas\n7-nights from Miami\, Florida starting August 14\, 2021\n\n\n\n\n\n\n\n\n\n\n\n\n\n\n\n\n\n\n\n\n\n\n\nFreedom of the Seas\n3-4 nights from Miami\, Florida starting July 2\, 2021\n\n\n\n\n\n\n\n\n\n\n\n\n\n\n\n\n\n\n\n\n\n\n\nMariner of the Seas\n3-5 nights from Miami\, Florida starting August 23\, 2021\n\n\n\n\n\n\n\n\n\n\n\n\n\n\n\n\n\n\n\n\n\n\nAlaska Cruise! Norwegian Encore\n7 nights from Seattle\, Washington starting August 7\, 2021\n\n\n\n\n\n\n\n\n\n\n\n\n\n\n\n\n\n\n\n\n\n\n\nNorwegian Gem\n7 nights from Miami\, Florida starting August 15\, 2021\n\n\n\n\n\n\n\n\n\n\n\n\n\n\n\n\n\n\n\n\n\n\n\nNorwegian Breakaway\n7 nights from Miami\, Florida starting May 15\, 2022\n\n\n\n\n\n\n\n\n\n\n\n\n\n\n\n\n\n\n\n\n\n\nCelebrity Edge\n7-nights from Fort Lauderdale\, Florida starting June 26\, 2021\n\n\n\n\n\n\n\n\n\n\n\n\n\n\n\n\n\n\n\n\n\n\n\nCelebrity Equinox\n7-nights from Fort Lauderdale\, Florida starting July 25\, 2021
URL:https://palmbeachcasinotours.com/event/cruises-are-back/
LOCATION:Cruises
ORGANIZER;CN="Palm Beach Casino Tours":MAILTO:Info@PBCTours.com
END:VEVENT
BEGIN:VEVENT
DTSTART;TZID=UTC:20201228T080000
DTEND;TZID=UTC:20210102T170000
DTSTAMP:20260424T002817
CREATED:20200605T201721Z
LAST-MODIFIED:20200605T201742Z
UID:2385-1609142400-1609606800@palmbeachcasinotours.com
SUMMARY:New Year's 5-Night Cruise Invitation
DESCRIPTION:Complimentary accommodations are \nALWAYS \navailable to Qualified* casino players\n\n\n\nOFFER DETAILS:\n\n\n*Typical Casino Play during the cruise is expected. This offer does not include: admin fee\, taxes\, port fees\, gratuities\, transportation to/from embarkation port and any onboard charges. Offer recipient must be present onboard for the sailing. If offer recipient is not onboard the sailing\, Royal Caribbean will charge the full cruise fare at the current rates for the individual guest who boarded. Travel protection is strongly recommended. Royal Caribbean International has final approval of all offers. Management reserves all rights to change\, cancel or amend Offer at any time without notice. Palm Beach Casino Tours is a licensed independent casino marketing representative. Reservations are subject to cancellation penalties. Penalties vary by ship and sail date. All cancellations must go through Palm Beach Casino Tours. \n\n\n  \n  \n 
URL:https://palmbeachcasinotours.com/event/new-years-5-night-cruise-invitation/
LOCATION:Royal Caribbean
END:VEVENT
BEGIN:VEVENT
DTSTART;TZID=UTC:20201121T080000
DTEND;TZID=UTC:20201202T170000
DTSTAMP:20260424T002817
CREATED:20200608T143815Z
LAST-MODIFIED:20200608T143815Z
UID:2388-1605945600-1606928400@palmbeachcasinotours.com
SUMMARY:Luxury Group Cruise\, Crystal Serenity on November  21\, 2020
DESCRIPTION:For more information for this cruise please click on the link below:\nhttps://www.crystalcruises.com/voyage/round-trip-miami-ocy201121-11
URL:https://palmbeachcasinotours.com/event/luxury-group-cruise-crystal-serenity-on-november-21-2020/
LOCATION:Crystal Cruises
ORGANIZER;CN="Palm Beach Casino Tours":MAILTO:Info@PBCTours.com
END:VEVENT
BEGIN:VEVENT
DTSTART;VALUE=DATE:20200725
DTEND;VALUE=DATE:20200726
DTSTAMP:20260424T002818
CREATED:20200617T165442Z
LAST-MODIFIED:20200617T165503Z
UID:2392-1595635200-1595721599@palmbeachcasinotours.com
SUMMARY:Grand Celebration Is Back!
DESCRIPTION:Grand Celebration\nresumes 2 night cruises \nout of Palm Beach to Freeport\, \nBahamas on July 25th\n\n\n\n\n\nWe are now accepting reservations!\n\n\n\n\n\n\n\n\nComplimentary accommodations are \n\nALWAYS \navailable to Qualified* casino players\n\n\nOFFER DETAILS:\n*Gaming requirements apply for semi or fully complimentary cabins. Online retail rates are based on double occupancy and subject to change without notice. Port fees and taxes of $88.44 per person are applicable to all bookings. Ship sails from the Port of Palm Beach. Ships’ registry: The Bahamas & Portugal.
URL:https://palmbeachcasinotours.com/event/grand-celebration-is-back/
LOCATION:Grand Celebration\, Riviera Port\, Riviera Beach\, FL\, 33404\, United States
ORGANIZER;CN="Palm Beach Casino Tours":MAILTO:Info@PBCTours.com
END:VEVENT
BEGIN:VEVENT
DTSTART;TZID=UTC:20200214T080000
DTEND;TZID=UTC:20200214T170000
DTSTAMP:20260424T002818
CREATED:20191218T191501Z
LAST-MODIFIED:20191218T191501Z
UID:2313-1581667200-1581699600@palmbeachcasinotours.com
SUMMARY:Valentine's Day Cruise Suggestions
DESCRIPTION:Choose one of the romantic getaways to \ncelebrate with  your loved one!\n\n\n\n\nReserve your cabin early!\nValentine’s Day cruises sell out fast\n\n\n\nComplimentary accommodations are \n\nALWAYS \navailable to Qualified* casino players\n\nOFFER DETAILS:\n\n*Prices and itineraries are based on availability and subject to change without notice.\nTypical Casino Play during the cruise is expected. This offer does not include: admin fee\, taxes\, port fees\, gratuities\, transportation/flight to/from embarkation port and any onboard charges. Offer recipient must be present onboard for the sailing. If offer recipient is not onboard the sailing\, Royal Caribbean will charge the full cruise fare at the current rates for the individual guest who boarded. Travel protection is strongly recommended. Royal Caribbean International has final approval of all offers. Management reserves all rights to change\, cancel or amend Offer at any time without notice. Palm Beach Casino Tours is a licensed independent casino marketing representative. Reservations are subject to cancellation penalties. Penalties vary by ship and sail date. All cancellations must go through Palm Beach Casino Tours.
URL:https://palmbeachcasinotours.com/event/valentines-day-cruise-suggestions/
LOCATION:Grand Classica
ORGANIZER;CN="Palm Beach Casino Tours":MAILTO:Info@PBCTours.com
END:VEVENT
BEGIN:VEVENT
DTSTART;TZID=UTC:20200213T080000
DTEND;TZID=UTC:20200217T170000
DTSTAMP:20260424T002818
CREATED:20191218T184916Z
LAST-MODIFIED:20191218T184916Z
UID:2311-1581580800-1581958800@palmbeachcasinotours.com
SUMMARY:Valentine's Day Group Cruise February 13th
DESCRIPTION:Join Palm Beach Casino Tours \non romantic getaway \n \nOur Invitation Includes\n– Cocktail reception with Hors D’oeuvres \n\n\n\n– Complimentary drinks while gambling at \nCasino Royale\n– Up to $5\,000 cash withdraw per day\n\n-Complimentary dinner at the specialty restaurant*\n\n*Applied to Qualified Casino Players Only\n\n\nReserve your cabin now!\nValentine’s Day cruises sell out fast\n\n\n\nComplimentary accommodations are \n\nALWAYS \navailable to Qualified* casino players\n\nOFFER DETAILS:\n\n*Prices and itineraries are based on availability and subject to change without notice.\nTypical Casino Play during the cruise is expected. This offer does not include: admin fee\, taxes\, port fees\, gratuities\, transportation/flight to/from embarkation port and any onboard charges. Offer recipient must be present onboard for the sailing. If offer recipient is not onboard the sailing\, Royal Caribbean will charge the full cruise fare at the current rates for the individual guest who boarded. Travel protection is strongly recommended. Royal Caribbean International has final approval of all offers. Management reserves all rights to change\, cancel or amend Offer at any time without notice. Palm Beach Casino Tours is a licensed independent casino marketing representative. Reservations are subject to cancellation penalties. Penalties vary by ship and sail date. All cancellations must go through Palm Beach Casino Tours.
URL:https://palmbeachcasinotours.com/event/valentines-day-group-cruise-february-13th/
LOCATION:Royal Caribbean
ORGANIZER;CN="Palm Beach Casino Tours":MAILTO:Info@PBCTours.com
END:VEVENT
BEGIN:VEVENT
DTSTART;TZID=UTC:20200207T080000
DTEND;TZID=UTC:20200209T170000
DTSTAMP:20260424T002818
CREATED:20200110T172954Z
LAST-MODIFIED:20200110T172954Z
UID:2319-1581062400-1581267600@palmbeachcasinotours.com
SUMMARY:Casino Party Cruise February 7th!
DESCRIPTION:Join us for our group cruise and  redeem the points \nearned in January!\n\n\n\n\n\nFebruary 7th\nGrand Classica\nPalm Beach\, FL |Nassau\, Bahamas|Palm Beach\, FL\n2 Night Cruise\n\n\n\n\n\nInvitation Includes \n\n\n\n\n\n\n\nCocktail party – appetizers and premium drinks \nFREE $50 slot play or $100 match play vouchers\nComplimentary Slot Tournament*\n VIP check-in\, live entertainment\, \nadvance dinner reservations\, express disembarkation\, \nand more!\n\n\n\n\n\n\nComplimentary accommodations are \n\nALWAYS \navailable to Qualified* casino players\n\n\nOFFER DETAILS:\n*Gaming requirements apply for semi or fully complimentary cabins. Online retail rates are based on double occupancy and subject to change without notice. Port fees and taxes of $109.00 per person are applicable to all bookings. Ship sails from the Port of Palm Beach. Ships’ registry: The Bahamas & Portugal.
URL:https://palmbeachcasinotours.com/event/casino-party-cruise-february-7th/
LOCATION:Grand Classica
ORGANIZER;CN="Palm Beach Casino Tours":MAILTO:Info@PBCTours.com
END:VEVENT
BEGIN:VEVENT
DTSTART;TZID=UTC:20200101T080000
DTEND;TZID=UTC:20200207T170000
DTSTAMP:20260424T002818
CREATED:20191219T154903Z
LAST-MODIFIED:20191219T154903Z
UID:2315-1577865600-1581094800@palmbeachcasinotours.com
SUMMARY:Special Cruise Deal in January
DESCRIPTION:Complimentary accommodations are \nALWAYS \navailable to Qualified** casino players\n\nOFFER DETAILS:\n\n*Offer expire January 31\, 2020\, applies to January\, 2020 sailings only. Points earned can be combined. Offer has no actual cash value and cannot be redeemed or exchanged for any other service or product. Points must be redeem on February 7\, 2020\n\n**Gaming requirements apply for semi or fully complimentary cabins. Online retail rates are based on double occupancy and subject to change without notice. Port fees and taxes are applicable to all comped bookings. Ship sails from the Port of Palm Beach. Ships’ registry: The Bahamas & Portugal.
URL:https://palmbeachcasinotours.com/event/special-cruise-deal-in-january/
ORGANIZER;CN="Palm Beach Casino Tours":MAILTO:Info@PBCTours.com
END:VEVENT
BEGIN:VEVENT
DTSTART;TZID=UTC:20191231T080000
DTEND;TZID=UTC:20200102T170000
DTSTAMP:20260424T002818
CREATED:20191217T160944Z
LAST-MODIFIED:20191217T160944Z
UID:2308-1577779200-1577984400@palmbeachcasinotours.com
SUMMARY:New Year's 2-Night Cruise Available!
DESCRIPTION:Complimentary accommodations are \nALWAYS \navailable to Qualified* casino players\n\n\nOFFER DETAILS:\n*Gaming requirements apply for semi or fully complimentary cabins. Online retail rates are based on double occupancy and subject to change without notice. Port fees and taxes of $88.44 per person are applicable to all bookings. Ship sails from the Port of Palm Beach. Ships’ registry: The Bahamas & Portugal.
URL:https://palmbeachcasinotours.com/event/new-years-2-night-cruise-available/
LOCATION:Grand Classica
ORGANIZER;CN="Palm Beach Casino Tours":MAILTO:Info@PBCTours.com
END:VEVENT
BEGIN:VEVENT
DTSTART;TZID=UTC:20191229T080000
DTEND;TZID=UTC:20200104T170000
DTSTAMP:20260424T002818
CREATED:20190716T161805Z
LAST-MODIFIED:20190716T163700Z
UID:2227-1577606400-1578157200@palmbeachcasinotours.com
SUMMARY:It's Not too Early to Plan your New Year's Cruise!
DESCRIPTION:Celebrate New Year at Sea! \n Join us aboard of \n\n\n\n\n\n\nADVENTURE OF THE SEAS\n\nDecember 29\, 2019\n6-Night Cruise\n Fort Lauderdale|George Town\, Grand Cayman|Puerto Costa Maya\, Mexico|Cozumel\, Mexico|\nFort Lauderdale\n\n\n\n\n\n—\nOur Invitation Includes\n\n\n– Cocktail Reception with Hors D’oeuvres \n\n\n\n– Complimentary Cocktails while Gambling at \nCasino Royale\n– Up to $5\,000 Cash Withdraw per Day  \n-Complimentary Dinner at the Specialty Restaurant*\n\n*Applied to Qualified Casino Players Only\n\n\n\n\n\n\n\n\n\n\n\n\n\nAlso Available for your choice\n\nSailing on December 28th\n\nMAJESTY OF THE SEAS\n\n5-Night Cruise\n Fort Lauderdale| Cozumel\, Mexico|Nassau\, Bahamas|\nFort Lauderdale\n\n\n\n\n\n—\n\n\n\n\n\nINDEPENDENCE OF THE SEAS \n\n5-Night Cruise\n Fort Lauderdale| Labadee\, Haiti|Falmouth\, Jamaica|Fort Lauderdale\n\n\n\n\n\n—\n\n\nSailing on December 29th\n\nALLURE OF THE SEAS\n\n7-Night Cruise\n Fort Lauderdale|Cococay\, Bahamas|Cozumel\, Mexico|Puerto Costa Maya\, Mexico |\nRoatan\, Honduras|Fort Lauderdale\n\n\n\n\n\n\n—\n\n\n\n\n\n\nOASIS OF THE SEAS \n\n7-Night Cruise\n Miami| Labadee\, Haiti|Falmouth\, Jamaica|Cozumel\, Mexico|Miami\n\n\n\n\n\n—\n\n\n\n\n\n\n\n\n\n \nOFFER DETAILS:\n(*) Must be a qualified player with verifiable casino ratings and at least 21 years of age to get semi or fully complimentary rooms. Offer is non-transferable\, and is non-negotiable. Offer subject to availability\, subject to change without notice\, and has limited combinability with other offers. Guest is responsible for admin fee\, government taxes and fees\, transportation to/from embarkation port and any onboard charges. Offer recipient must be present onboard for the sailing. If offer recipient is not onboard the sailing\, Cruise provider will charge the full cruise fare at the current rates for the individual guest who boarded. Travel protection is strongly recommended. Embarkation time\, itinerary\, hotel\, rail and/or transportation may change without notice as conditions warrant. Management reserves all rights to change or cancel this promotion without notice. Reservations are required.
URL:https://palmbeachcasinotours.com/event/its-not-too-early-to-plan-your-new-year-cruise/
LOCATION:Royal Caribbean
END:VEVENT
BEGIN:VEVENT
DTSTART;TZID=UTC:20191206T080000
DTEND;TZID=UTC:20191209T170000
DTSTAMP:20260424T002818
CREATED:20191112T203254Z
LAST-MODIFIED:20191112T203254Z
UID:2301-1575619200-1575910800@palmbeachcasinotours.com
SUMMARY:Group 3-Night Cruise December 6th. You Are Invited!
DESCRIPTION:Complimentary accommodations are \n\nALWAYS \navailable to Qualified* casino players\n\nOFFER DETAILS:\n(*) Applies to QUALIFIED players.Must be a qualified player with verifiable casino ratings and at least 21 years of age to get semi or fully complimentary rooms. Offer is non-transferable\, and is non-negotiable. Offer subject to availability\, subject to change without notice\, and has limited combinability with other offers. Guest is responsible for admin fee\, government taxes and fees\, transportation to/from embarkation port and any onboard charges. Offer recipient must be present onboard for the sailing. If offer recipient is not onboard the sailing\, Cruise provider will charge the full cruise fare at the current rates for the individual guest who boarded. Travel protection is strongly recommended. Embarkation time\, itinerary\, hotel\, rail and/or transportation may change without notice as conditions warrant. Management reserves all rights to change or cancel this promotion without notice. Reservations are required.\n\n 
URL:https://palmbeachcasinotours.com/event/group-3-night-cruise-december-6th-you-are-invited/
LOCATION:Royal Caribbean
END:VEVENT
BEGIN:VEVENT
DTSTART;TZID=UTC:20191124T080000
DTEND;TZID=UTC:20191201T170000
DTSTAMP:20260424T002818
CREATED:20190416T183903Z
LAST-MODIFIED:20190416T183903Z
UID:2179-1574582400-1575219600@palmbeachcasinotours.com
SUMMARY:Luxury Crystal Symphony Cruise on November 24\, 2019
DESCRIPTION:For more information for this cruise please click on the link below:\nhttps://www.crystalcruises.com/voyage/round-trip-fort-lauderdale-ocs191124-07
URL:https://palmbeachcasinotours.com/event/luxury-crystal-symphony-cruise-on-november-24-2019/
ORGANIZER;CN="Palm Beach Casino Tours":MAILTO:Info@PBCTours.com
END:VEVENT
END:VCALENDAR