BEGIN:VCALENDAR
VERSION:2.0
PRODID:-//Palm Beach Casino Tours - ECPv6.15.20//NONSGML v1.0//EN
CALSCALE:GREGORIAN
METHOD:PUBLISH
X-ORIGINAL-URL:https://palmbeachcasinotours.com
X-WR-CALDESC:Events for Palm Beach Casino Tours
REFRESH-INTERVAL;VALUE=DURATION:PT1H
X-Robots-Tag:noindex
X-PUBLISHED-TTL:PT1H
BEGIN:VTIMEZONE
TZID:UTC
BEGIN:STANDARD
TZOFFSETFROM:+0000
TZOFFSETTO:+0000
TZNAME:UTC
DTSTART:20240101T000000
END:STANDARD
END:VTIMEZONE
BEGIN:VEVENT
DTSTART;VALUE=DATE:20250208
DTEND;VALUE=DATE:20250216
DTSTAMP:20260424T155956
CREATED:20241122T165528Z
LAST-MODIFIED:20250127T174508Z
UID:3028-1738972800-1739663999@palmbeachcasinotours.com
SUMMARY:Romantic Getaway on Icon
DESCRIPTION:  \nCelebrate Valentine’s Day with us  \n7-night cruise on ICON OF THE SEAS! \nFebruary 8\, 2025 \nMiami\, FL – Philipsburg\,  St. Maarten – Charlotte Amalie\, St. Thomas – CocoCay\, Bahamas – Miami\, FL \n   Itinerary details here: https://www.royalcaribbean.com/cruises/itinerary/7-night-eastern-caribbean-perfect-day-from-miami-on-icon/IC07MIA-2623281014?sail-date=2025-02-08&currency=USD&country=USA&search=startDate:2025-02-01~2025-02-28#step=0
URL:https://palmbeachcasinotours.com/event/romantic-getaway-on-icon/
ATTACH;FMTTYPE=image/jpeg:https://palmbeachcasinotours.com/wp-content/uploads/2024/11/am_valentines-1024x492-1-e1737999885809.jpg
END:VEVENT
END:VCALENDAR