BEGIN:VCALENDAR
VERSION:2.0
PRODID:-//Palm Beach Casino Tours - ECPv6.15.20//NONSGML v1.0//EN
CALSCALE:GREGORIAN
METHOD:PUBLISH
X-WR-CALNAME:Palm Beach Casino Tours
X-ORIGINAL-URL:https://palmbeachcasinotours.com
X-WR-CALDESC:Events for Palm Beach Casino Tours
REFRESH-INTERVAL;VALUE=DURATION:PT1H
X-Robots-Tag:noindex
X-PUBLISHED-TTL:PT1H
BEGIN:VTIMEZONE
TZID:UTC
BEGIN:STANDARD
TZOFFSETFROM:+0000
TZOFFSETTO:+0000
TZNAME:UTC
DTSTART:20240101T000000
END:STANDARD
END:VTIMEZONE
BEGIN:VEVENT
DTSTART;VALUE=DATE:20251121
DTEND;VALUE=DATE:20251122
DTSTAMP:20260424T003555
CREATED:20251009T151007Z
LAST-MODIFIED:20251009T151007Z
UID:3203-1763683200-1763769599@palmbeachcasinotours.com
SUMMARY:Fall Weekend Adventure on Celebrity Reflection
DESCRIPTION:Palm Beach Casino Tours \ninvites you to join us on a 3-night cruise on \nCelebrity Reflection \nNovember 21-24\, 2025 \nFort Lauderdale\, FL ~ Key West\, FL ~ Bimini\, Bahamas ~ Fort Lauderdale\, FL
URL:https://palmbeachcasinotours.com/event/fall-weekend-adventure-on-celebrity-reflection/
ATTACH;FMTTYPE=image/jpeg:https://palmbeachcasinotours.com/wp-content/uploads/2025/10/RF-SHIP.jpg
END:VEVENT
BEGIN:VEVENT
DTSTART;VALUE=DATE:20251130
DTEND;VALUE=DATE:20251201
DTSTAMP:20260424T003555
CREATED:20250623T172057Z
LAST-MODIFIED:20250911T202332Z
UID:3145-1764460800-1764547199@palmbeachcasinotours.com
SUMMARY:Join us on New Celebrity Xcel
DESCRIPTION:Think the Caribbean can’t get better? \nThink again! \nReserve Your Spot for a 7-night cruise on NEW \n Celebrity XCEL \nNovember 30 – December 7\, 2025 \nFort Lauderdale\, FL ~ Puerto Plata\, Dominican Republic ~ Charlotte Amalie\, St.Thomas~ Philipsburg\, St.Maarten ~ Fort Lauderdale\, FL \nOur Invitation Includes: \n~Welcome Aboard Cocktail Party \n~ Complimentary Slots Tournament \n~Complimentary Beverages in the Casino \n~Up to $5000 Daily Withdrawal \n~All-Inclusive Packages Available*
URL:https://palmbeachcasinotours.com/event/join-us-on-new-celebrity-xcel/
ATTACH;FMTTYPE=image/jpeg:https://palmbeachcasinotours.com/wp-content/uploads/2025/06/X-xcel.jpg
END:VEVENT
END:VCALENDAR