BEGIN:VCALENDAR
VERSION:2.0
PRODID:-//Palm Beach Casino Tours - ECPv6.15.20//NONSGML v1.0//EN
CALSCALE:GREGORIAN
METHOD:PUBLISH
X-WR-CALNAME:Palm Beach Casino Tours
X-ORIGINAL-URL:https://palmbeachcasinotours.com
X-WR-CALDESC:Events for Palm Beach Casino Tours
REFRESH-INTERVAL;VALUE=DURATION:PT1H
X-Robots-Tag:noindex
X-PUBLISHED-TTL:PT1H
BEGIN:VTIMEZONE
TZID:UTC
BEGIN:STANDARD
TZOFFSETFROM:+0000
TZOFFSETTO:+0000
TZNAME:UTC
DTSTART:20250101T000000
END:STANDARD
END:VTIMEZONE
BEGIN:VEVENT
DTSTART;VALUE=DATE:20260220
DTEND;VALUE=DATE:20260221
DTSTAMP:20260423T190451
CREATED:20251124T214350Z
LAST-MODIFIED:20251124T214536Z
UID:3226-1771545600-1771631999@palmbeachcasinotours.com
SUMMARY:Weekend Cruise to Perfect Day at Cococay
DESCRIPTION:Palm Beach Casino Tours \ninvites you to sail on \nLiberty of the Seas \nFebruary 20 – 23\, 2026 \nFort Lauderdale\, FL ~ Nassau\, Bahamas ~ Cococay\, Bahamas ~ Fort Lauderdale\, FL
URL:https://palmbeachcasinotours.com/event/weekend-cruise-to-perfect-day-at-cococay/
ATTACH;FMTTYPE=image/jpeg:https://palmbeachcasinotours.com/wp-content/uploads/2025/11/coco.jpg
END:VEVENT
END:VCALENDAR