BEGIN:VCALENDAR
VERSION:2.0
PRODID:-//Palm Beach Casino Tours - ECPv6.15.20//NONSGML v1.0//EN
CALSCALE:GREGORIAN
METHOD:PUBLISH
X-WR-CALNAME:Palm Beach Casino Tours
X-ORIGINAL-URL:https://palmbeachcasinotours.com
X-WR-CALDESC:Events for Palm Beach Casino Tours
REFRESH-INTERVAL;VALUE=DURATION:PT1H
X-Robots-Tag:noindex
X-PUBLISHED-TTL:PT1H
BEGIN:VTIMEZONE
TZID:UTC
BEGIN:STANDARD
TZOFFSETFROM:+0000
TZOFFSETTO:+0000
TZNAME:UTC
DTSTART:20250101T000000
END:STANDARD
END:VTIMEZONE
BEGIN:VEVENT
DTSTART;VALUE=DATE:20260829
DTEND;VALUE=DATE:20260830
DTSTAMP:20260423T221534
CREATED:20260226T180828Z
LAST-MODIFIED:20260226T180828Z
UID:3266-1787961600-1788047999@palmbeachcasinotours.com
SUMMARY:Visit Europe this Summer
DESCRIPTION:Palm Beach Casino Tours  \nInvites You to Join Us on Brand-New Celebrity Xcel \nAugust 29\, 2026 \n7-Night Cruise \nDiscover the Magic of the Mediterranean \nBarcelona\, Spain – Nice\, France – Portofino\, Italy – Florencia/Pisa\, Italy –\nRome\, Italy – Naples\, Italy – Barcelona\, Spain
URL:https://palmbeachcasinotours.com/event/visit-europe-this-summer/
ATTACH;FMTTYPE=image/jpeg:https://palmbeachcasinotours.com/wp-content/uploads/2026/02/portofino.jpg
END:VEVENT
END:VCALENDAR